BEGIN:VCALENDAR
VERSION:2.0
PRODID:-//Polska Parafia Chrystusa Króla w Londynie Balham - ECPv6.15.20//NONSGML v1.0//EN
CALSCALE:GREGORIAN
METHOD:PUBLISH
X-ORIGINAL-URL:https://parafia-balham.co.uk
X-WR-CALDESC:Wydarzenia dla Polska Parafia Chrystusa Króla w Londynie Balham
REFRESH-INTERVAL;VALUE=DURATION:PT1H
X-Robots-Tag:noindex
X-PUBLISHED-TTL:PT1H
BEGIN:VTIMEZONE
TZID:Europe/London
BEGIN:DAYLIGHT
TZOFFSETFROM:+0000
TZOFFSETTO:+0100
TZNAME:BST
DTSTART:20240331T010000
END:DAYLIGHT
BEGIN:STANDARD
TZOFFSETFROM:+0100
TZOFFSETTO:+0000
TZNAME:GMT
DTSTART:20241027T010000
END:STANDARD
BEGIN:DAYLIGHT
TZOFFSETFROM:+0000
TZOFFSETTO:+0100
TZNAME:BST
DTSTART:20250330T010000
END:DAYLIGHT
BEGIN:STANDARD
TZOFFSETFROM:+0100
TZOFFSETTO:+0000
TZNAME:GMT
DTSTART:20251026T010000
END:STANDARD
BEGIN:DAYLIGHT
TZOFFSETFROM:+0000
TZOFFSETTO:+0100
TZNAME:BST
DTSTART:20260329T010000
END:DAYLIGHT
BEGIN:STANDARD
TZOFFSETFROM:+0100
TZOFFSETTO:+0000
TZNAME:GMT
DTSTART:20261025T010000
END:STANDARD
BEGIN:DAYLIGHT
TZOFFSETFROM:+0000
TZOFFSETTO:+0100
TZNAME:BST
DTSTART:20270328T010000
END:DAYLIGHT
BEGIN:STANDARD
TZOFFSETFROM:+0100
TZOFFSETTO:+0000
TZNAME:GMT
DTSTART:20271031T010000
END:STANDARD
END:VTIMEZONE
BEGIN:VEVENT
DTSTART;VALUE=DATE:20251221
DTEND;VALUE=DATE:20261011
DTSTAMP:20260423T023101
CREATED:20251221T174751Z
LAST-MODIFIED:20251221T174752Z
UID:9523-1766275200-1791676799@parafia-balham.co.uk
SUMMARY:PIELGRZYMKA SAMOLOTOWA DO SYCYLII 03.10.2026-10.10.2026
DESCRIPTION:Zapraszamy na pielgrzymke do Sycylii! \n 
URL:https://parafia-balham.co.uk/wydarzenie/pielgrzymka-samolotowa-do-sycylii-03-10-2026-10-10-2026/
LOCATION:Kościół parafialny\, 232/234 Balham High Road\, Londyn\, SW17 7AW\, United Kingdom
ATTACH;FMTTYPE=application/pdf:https://parafia-balham.co.uk/wp-content/uploads/2025/12/Sycylia_ks_Galuszka.pdf
END:VEVENT
END:VCALENDAR